BEGIN:VCALENDAR
VERSION:2.0
PRODID:-//mWEB//NONSGML mWEB//NB
URL:https://www.beroa.no/kalender/ics
X-WR-CALNAME:Berøa Langåker
REFRESH-INTERVAL;VALUE=DURATION:PT6H
X-PUBLISHED-TTL:PT6H    
CALSCALE:GREGORIAN
BEGIN:VEVENT
UID:beroa.no-2979
DTSTAMP:20260424T085840Z
DTSTART:20240519T090000Z
DTEND:20240519T103000Z
URL:https://www.beroa.no/kalender/2024/05/19/sondagsskule/2979/
CREATED:20240515T201710Z
LAST-MODIFIED:20240515T201714Z
SUMMARY:Søndagsskule
DESCRIPTION:\n\nhttps://www.beroa.no/kalender/2024/05/19/sondagsskule/2979/
END:VEVENT

END:VCALENDAR