BEGIN:VCALENDAR
VERSION:2.0
PRODID:-//mWEB//NONSGML mWEB//NB
URL:https://www.beroa.no/kalender/ics
X-WR-CALNAME:Berøa Langåker
REFRESH-INTERVAL;VALUE=DURATION:PT6H
X-PUBLISHED-TTL:PT6H    
CALSCALE:GREGORIAN
BEGIN:VEVENT
UID:beroa.no-2948
DTSTAMP:20260424T085427Z
DTSTART:20240521T173000Z
DTEND:20240521T190000Z
URL:https://www.beroa.no/kalender/2024/05/21/bonnesamling/2948/
CREATED:20240301T183155Z
LAST-MODIFIED:20240301T183156Z
SUMMARY:Bønnesamling
DESCRIPTION:\n\nhttps://www.beroa.no/kalender/2024/05/21/bonnesamling/2948/
END:VEVENT

END:VCALENDAR