BEGIN:VCALENDAR
VERSION:2.0
PRODID:-//mWEB//NONSGML mWEB//NB
URL:https://www.beroa.no/kalender/ics
X-WR-CALNAME:Berøa Langåker
REFRESH-INTERVAL;VALUE=DURATION:PT6H
X-PUBLISHED-TTL:PT6H    
CALSCALE:GREGORIAN
BEGIN:VEVENT
UID:beroa.no-2860
DTSTAMP:20260424T090251Z
DTSTART:20240522T173000Z
DTEND:20240522T190000Z
URL:https://www.beroa.no/kalender/2024/05/22/mote-tale-av-per-tveten-sang-av-kvalavag-musikkor/2860/
CREATED:20231115T212643Z
LAST-MODIFIED:20240124T180953Z
SUMMARY:Møte. Tale av Per Tveten. Sang av Kvalavåg musikkor
DESCRIPTION:\n\nhttps://www.beroa.no/kalender/2024/05/22/mote-tale-av-per-tveten-sang-av-kvalavag-musikkor/2860/
END:VEVENT

END:VCALENDAR