BEGIN:VCALENDAR
VERSION:2.0
PRODID:-//mWEB//NONSGML mWEB//NB
URL:https://www.beroa.no/kalender/ics
X-WR-CALNAME:Berøa Langåker
REFRESH-INTERVAL;VALUE=DURATION:PT6H
X-PUBLISHED-TTL:PT6H    
CALSCALE:GREGORIAN
BEGIN:VEVENT
UID:beroa.no-2861
DTSTAMP:20260424T090208Z
DTSTART:20240523T173000Z
DTEND:20240523T190000Z
URL:https://www.beroa.no/kalender/2024/05/23/mote-tale-av-per-tveten-sang-av-havgap/2861/
CREATED:20231115T212709Z
LAST-MODIFIED:20240124T181118Z
SUMMARY:Møte. Tale av Per Tveten. Sang av Havgap
DESCRIPTION:\n\nhttps://www.beroa.no/kalender/2024/05/23/mote-tale-av-per-tveten-sang-av-havgap/2861/
END:VEVENT

END:VCALENDAR