BEGIN:VCALENDAR
VERSION:2.0
PRODID:-//mWEB//NONSGML mWEB//NB
URL:https://www.beroa.no/kalender/ics
X-WR-CALNAME:Berøa Langåker
REFRESH-INTERVAL;VALUE=DURATION:PT6H
X-PUBLISHED-TTL:PT6H    
CALSCALE:GREGORIAN
BEGIN:VEVENT
UID:beroa.no-2863
DTSTAMP:20260424T090047Z
DTSTART:20240525T170000Z
DTEND:20240525T183000Z
URL:https://www.beroa.no/kalender/2024/05/25/mote-tale-av-per-tveten/2863/
CREATED:20231115T212809Z
LAST-MODIFIED:20231115T212810Z
SUMMARY:Møte. Tale av Per Tveten
DESCRIPTION:\n\nhttps://www.beroa.no/kalender/2024/05/25/mote-tale-av-per-tveten/2863/
END:VEVENT

END:VCALENDAR