BEGIN:VCALENDAR
VERSION:2.0
PRODID:-//mWEB//NONSGML mWEB//NB
URL:https://www.beroa.no/kalender/ics
X-WR-CALNAME:Berøa Langåker
REFRESH-INTERVAL;VALUE=DURATION:PT6H
X-PUBLISHED-TTL:PT6H    
CALSCALE:GREGORIAN
BEGIN:VEVENT
UID:beroa.no-2921
DTSTAMP:20260424T085635Z
DTSTART:20240529T180000Z
DTEND:20240529T193000Z
URL:https://www.beroa.no/kalender/2024/05/29/elieserlaget/2921/
CREATED:20240131T162810Z
LAST-MODIFIED:20240131T162811Z
SUMMARY:Elieserlaget
DESCRIPTION:\n\nhttps://www.beroa.no/kalender/2024/05/29/elieserlaget/2921/
END:VEVENT

END:VCALENDAR