BEGIN:VCALENDAR
VERSION:2.0
PRODID:-//mWEB//NONSGML mWEB//NB
URL:https://www.beroa.no/kalender/ics
X-WR-CALNAME:Berøa Langåker
REFRESH-INTERVAL;VALUE=DURATION:PT6H
X-PUBLISHED-TTL:PT6H    
CALSCALE:GREGORIAN
BEGIN:VEVENT
UID:beroa.no-2956
DTSTAMP:20260424T085730Z
DTSTART:20240530T173000Z
DTEND:20240530T190000Z
URL:https://www.beroa.no/kalender/2024/05/30/bibellesning/2956/
CREATED:20240301T184559Z
LAST-MODIFIED:20240301T184600Z
SUMMARY:Bibellesning
DESCRIPTION:\n\nhttps://www.beroa.no/kalender/2024/05/30/bibellesning/2956/
END:VEVENT

END:VCALENDAR