BEGIN:VCALENDAR
VERSION:2.0
PRODID:-//mWEB//NONSGML mWEB//NB
URL:https://www.beroa.no/kalender/ics
X-WR-CALNAME:Berøa Langåker
REFRESH-INTERVAL;VALUE=DURATION:PT6H
X-PUBLISHED-TTL:PT6H    
CALSCALE:GREGORIAN
BEGIN:VEVENT
UID:beroa.no-2730
DTSTAMP:20260424T085922Z
DTSTART:20240530T220000Z
DTEND:20240531T215900Z
URL:https://www.beroa.no/kalender/2024/05/31/forsamlingsweekend-solgry/2730/
CREATED:20230625T180330Z
LAST-MODIFIED:20230625T180331Z
SUMMARY:Forsamlingsweekend - Solgry
DESCRIPTION:\n\nhttps://www.beroa.no/kalender/2024/05/31/forsamlingsweekend-solgry/2730/
X-MICROSOFT-CDO-ALLDAYEVENT:TRUE
END:VEVENT

END:VCALENDAR