BEGIN:VCALENDAR
VERSION:2.0
PRODID:-//mWEB//NONSGML mWEB//NB
URL:https://www.beroa.no/kalender/ics
X-WR-CALNAME:Berøa Langåker
REFRESH-INTERVAL;VALUE=DURATION:PT6H
X-PUBLISHED-TTL:PT6H    
CALSCALE:GREGORIAN
BEGIN:VEVENT
UID:beroa.no-2731
DTSTAMP:20260424T073337Z
DTSTART:20240531T220000Z
DTEND:20240601T215900Z
URL:https://www.beroa.no/kalender/2024/06/01/forsamlingsweekend-solgry/2731/
CREATED:20230625T180358Z
LAST-MODIFIED:20230625T180359Z
SUMMARY:Forsamlingsweekend - Solgry
DESCRIPTION:\n\nhttps://www.beroa.no/kalender/2024/06/01/forsamlingsweekend-solgry/2731/
X-MICROSOFT-CDO-ALLDAYEVENT:TRUE
END:VEVENT

END:VCALENDAR