BEGIN:VCALENDAR
VERSION:2.0
PRODID:-//mWEB//NONSGML mWEB//NB
URL:https://www.beroa.no/kalender/ics
X-WR-CALNAME:Berøa Langåker
REFRESH-INTERVAL;VALUE=DURATION:PT6H
X-PUBLISHED-TTL:PT6H    
CALSCALE:GREGORIAN
BEGIN:VEVENT
UID:beroa.no-2809
DTSTAMP:20260424T072315Z
DTSTART:20240608T180000Z
DTEND:20240608T193000Z
URL:https://www.beroa.no/kalender/2024/06/08/zennep/2809/
CREATED:20231001T190821Z
LAST-MODIFIED:20240606T150804Z
SUMMARY:Zennep
DESCRIPTION:\n\n\nhttps://www.beroa.no/kalender/2024/06/08/zennep/2809/
END:VEVENT

END:VCALENDAR