BEGIN:VCALENDAR
VERSION:2.0
PRODID:-//mWEB//NONSGML mWEB//NB
URL:https://www.beroa.no/kalender/ics
X-WR-CALNAME:Berøa Langåker
REFRESH-INTERVAL;VALUE=DURATION:PT6H
X-PUBLISHED-TTL:PT6H    
CALSCALE:GREGORIAN
BEGIN:VEVENT
UID:beroa.no-2969
DTSTAMP:20260424T071915Z
DTSTART:20240611T173000Z
DTEND:20240611T190000Z
URL:https://www.beroa.no/kalender/2024/06/11/bonnesamling/2969/
CREATED:20240511T084109Z
LAST-MODIFIED:20240511T084110Z
SUMMARY:Bønnesamling
DESCRIPTION:\n\nhttps://www.beroa.no/kalender/2024/06/11/bonnesamling/2969/
END:VEVENT

END:VCALENDAR