BEGIN:VCALENDAR
VERSION:2.0
PRODID:-//mWEB//NONSGML mWEB//NB
URL:https://www.beroa.no/kalender/ics
X-WR-CALNAME:Berøa Langåker
REFRESH-INTERVAL;VALUE=DURATION:PT6H
X-PUBLISHED-TTL:PT6H    
CALSCALE:GREGORIAN
BEGIN:VEVENT
UID:beroa.no-2810
DTSTAMP:20260424T073354Z
DTSTART:20240615T190000Z
DTEND:20240615T203000Z
URL:https://www.beroa.no/kalender/2024/06/15/ungdomsmote-beroa/2810/
CREATED:20231001T191009Z
LAST-MODIFIED:20231001T194638Z
SUMMARY:Ungdomsmøte Berøa
DESCRIPTION:\n\nhttps://www.beroa.no/kalender/2024/06/15/ungdomsmote-beroa/2810/
END:VEVENT

END:VCALENDAR