BEGIN:VCALENDAR
VERSION:2.0
PRODID:-//mWEB//NONSGML mWEB//NB
URL:https://www.beroa.no/kalender/ics
X-WR-CALNAME:Berøa Langåker
REFRESH-INTERVAL;VALUE=DURATION:PT6H
X-PUBLISHED-TTL:PT6H    
CALSCALE:GREGORIAN
BEGIN:VEVENT
UID:beroa.no-2910
DTSTAMP:20260424T073152Z
DTSTART:20240616T173000Z
DTEND:20240616T190000Z
URL:https://www.beroa.no/kalender/2024/06/16/brodsbrytelse/2910/
CREATED:20240109T164930Z
LAST-MODIFIED:20240609T152949Z
SUMMARY:Brødsbrytelse
DESCRIPTION:\n\nhttps://www.beroa.no/kalender/2024/06/16/brodsbrytelse/2910/
END:VEVENT

END:VCALENDAR