BEGIN:VCALENDAR
VERSION:2.0
PRODID:-//mWEB//NONSGML mWEB//NB
URL:https://www.beroa.no/kalender/ics
X-WR-CALNAME:Berøa Langåker
REFRESH-INTERVAL;VALUE=DURATION:PT6H
X-PUBLISHED-TTL:PT6H    
CALSCALE:GREGORIAN
BEGIN:VEVENT
UID:beroa.no-2970
DTSTAMP:20260424T073245Z
DTSTART:20240618T173000Z
DTEND:20240618T190000Z
URL:https://www.beroa.no/kalender/2024/06/18/bonnesamling/2970/
CREATED:20240511T084127Z
LAST-MODIFIED:20240511T084128Z
SUMMARY:Bønnesamling
DESCRIPTION:\n\nhttps://www.beroa.no/kalender/2024/06/18/bonnesamling/2970/
END:VEVENT

END:VCALENDAR