BEGIN:VCALENDAR
VERSION:2.0
PRODID:-//mWEB//NONSGML mWEB//NB
URL:https://www.beroa.no/kalender/ics
X-WR-CALNAME:Berøa Langåker
REFRESH-INTERVAL;VALUE=DURATION:PT6H
X-PUBLISHED-TTL:PT6H    
CALSCALE:GREGORIAN
BEGIN:VEVENT
UID:beroa.no-2911
DTSTAMP:20260424T073337Z
DTSTART:20240622T220000Z
DTEND:20240623T215900Z
URL:https://www.beroa.no/kalender/2024/06/23/ikke-mote/2911/
CREATED:20240109T165051Z
LAST-MODIFIED:20240301T190646Z
SUMMARY:(Ikke møte)
DESCRIPTION:\n\nhttps://www.beroa.no/kalender/2024/06/23/ikke-mote/2911/
X-MICROSOFT-CDO-ALLDAYEVENT:TRUE
END:VEVENT

END:VCALENDAR