BEGIN:VCALENDAR
VERSION:2.0
PRODID:-//mWEB//NONSGML mWEB//NB
URL:https://www.beroa.no/kalender/ics
X-WR-CALNAME:Berøa Langåker
REFRESH-INTERVAL;VALUE=DURATION:PT6H
X-PUBLISHED-TTL:PT6H    
CALSCALE:GREGORIAN
BEGIN:VEVENT
UID:beroa.no-2971
DTSTAMP:20260424T073225Z
DTSTART:20240625T173000Z
DTEND:20240625T190000Z
URL:https://www.beroa.no/kalender/2024/06/25/bonnesamling/2971/
CREATED:20240511T084148Z
LAST-MODIFIED:20240511T084149Z
SUMMARY:Bønnesamling
DESCRIPTION:\n\nhttps://www.beroa.no/kalender/2024/06/25/bonnesamling/2971/
END:VEVENT

END:VCALENDAR