BEGIN:VCALENDAR
VERSION:2.0
PRODID:-//mWEB//NONSGML mWEB//NB
URL:https://www.beroa.no/kalender/ics
X-WR-CALNAME:Berøa Langåker
REFRESH-INTERVAL;VALUE=DURATION:PT6H
X-PUBLISHED-TTL:PT6H    
CALSCALE:GREGORIAN
BEGIN:VEVENT
UID:beroa.no-2975
DTSTAMP:20260424T054942Z
DTSTART:20240709T173000Z
DTEND:20240709T190000Z
URL:https://www.beroa.no/kalender/2024/07/09/bonnesamling/2975/
CREATED:20240511T084610Z
LAST-MODIFIED:20240511T084611Z
SUMMARY:Bønnesamling
DESCRIPTION:\n\nhttps://www.beroa.no/kalender/2024/07/09/bonnesamling/2975/
END:VEVENT

END:VCALENDAR