BEGIN:VCALENDAR
VERSION:2.0
PRODID:-//mWEB//NONSGML mWEB//NB
URL:https://www.beroa.no/kalender/ics
X-WR-CALNAME:Berøa Langåker
REFRESH-INTERVAL;VALUE=DURATION:PT6H
X-PUBLISHED-TTL:PT6H    
CALSCALE:GREGORIAN
BEGIN:VEVENT
UID:beroa.no-2984
DTSTAMP:20260424T042055Z
DTSTART:20240813T173000Z
DTEND:20240813T190000Z
URL:https://www.beroa.no/kalender/2024/08/13/bonnesamling/2984/
CREATED:20240523T155605Z
LAST-MODIFIED:20240523T155606Z
SUMMARY:Bønnesamling
DESCRIPTION:\n\nhttps://www.beroa.no/kalender/2024/08/13/bonnesamling/2984/
END:VEVENT

END:VCALENDAR