BEGIN:VCALENDAR
VERSION:2.0
PRODID:-//mWEB//NONSGML mWEB//NB
URL:https://www.beroa.no/kalender/ics
X-WR-CALNAME:Berøa Langåker
REFRESH-INTERVAL;VALUE=DURATION:PT6H
X-PUBLISHED-TTL:PT6H    
CALSCALE:GREGORIAN
BEGIN:VEVENT
UID:beroa.no-2985
DTSTAMP:20260424T042412Z
DTSTART:20240820T173000Z
DTEND:20240820T190000Z
URL:https://www.beroa.no/kalender/2024/08/20/bonnesamling/2985/
CREATED:20240523T155621Z
LAST-MODIFIED:20240523T155622Z
SUMMARY:Bønnesamling
DESCRIPTION:\n\nhttps://www.beroa.no/kalender/2024/08/20/bonnesamling/2985/
END:VEVENT

END:VCALENDAR