BEGIN:VCALENDAR
VERSION:2.0
PRODID:-//mWEB//NONSGML mWEB//NB
URL:https://www.beroa.no/kalender/ics
X-WR-CALNAME:Berøa Langåker
REFRESH-INTERVAL;VALUE=DURATION:PT6H
X-PUBLISHED-TTL:PT6H    
CALSCALE:GREGORIAN
BEGIN:VEVENT
UID:beroa.no-3027
DTSTAMP:20260424T042440Z
DTSTART:20240825T090000Z
DTEND:20240825T103000Z
URL:https://www.beroa.no/kalender/2024/08/25/sondagsskule/3027/
CREATED:20240814T175153Z
LAST-MODIFIED:20240814T175154Z
SUMMARY:Søndagsskule
DESCRIPTION:\n\nhttps://www.beroa.no/kalender/2024/08/25/sondagsskule/3027/
END:VEVENT

END:VCALENDAR