BEGIN:VCALENDAR
VERSION:2.0
PRODID:-//mWEB//NONSGML mWEB//NB
URL:https://www.beroa.no/kalender/ics
X-WR-CALNAME:Berøa Langåker
REFRESH-INTERVAL;VALUE=DURATION:PT6H
X-PUBLISHED-TTL:PT6H    
CALSCALE:GREGORIAN
BEGIN:VEVENT
UID:beroa.no-3008
DTSTAMP:20260424T042424Z
DTSTART:20240829T173000Z
DTEND:20240829T190000Z
URL:https://www.beroa.no/kalender/2024/08/29/bibellesning/3008/
CREATED:20240702T161016Z
LAST-MODIFIED:20240702T161017Z
SUMMARY:Bibellesning
DESCRIPTION:\n\nhttps://www.beroa.no/kalender/2024/08/29/bibellesning/3008/
END:VEVENT

END:VCALENDAR