BEGIN:VCALENDAR
VERSION:2.0
PRODID:-//mWEB//NONSGML mWEB//NB
URL:https://www.beroa.no/kalender/ics
X-WR-CALNAME:Berøa Langåker
REFRESH-INTERVAL;VALUE=DURATION:PT6H
X-PUBLISHED-TTL:PT6H    
CALSCALE:GREGORIAN
BEGIN:VEVENT
UID:beroa.no-2936
DTSTAMP:20260424T042134Z
DTSTART:20240831T100000Z
DTEND:20240831T113000Z
URL:https://www.beroa.no/kalender/2024/08/31/priv-arr/2936/
CREATED:20240224T094357Z
LAST-MODIFIED:20240224T094359Z
SUMMARY:Priv arr
DESCRIPTION:\n\nhttps://www.beroa.no/kalender/2024/08/31/priv-arr/2936/
END:VEVENT

END:VCALENDAR