BEGIN:VCALENDAR
VERSION:2.0
PRODID:-//mWEB//NONSGML mWEB//NB
URL:https://www.beroa.no/kalender/ics
X-WR-CALNAME:Berøa Langåker
REFRESH-INTERVAL;VALUE=DURATION:PT6H
X-PUBLISHED-TTL:PT6H    
CALSCALE:GREGORIAN
BEGIN:VEVENT
UID:beroa.no-2981
DTSTAMP:20260424T025609Z
DTSTART:20240901T173000Z
DTEND:20240901T190000Z
URL:https://www.beroa.no/kalender/2024/09/01/mote-tale-av-terje-eng/2981/
CREATED:20240521T163849Z
LAST-MODIFIED:20240728T132354Z
SUMMARY:Møte. Tale av Terje Eng
DESCRIPTION:\n\nhttps://www.beroa.no/kalender/2024/09/01/mote-tale-av-terje-eng/2981/
END:VEVENT

END:VCALENDAR