BEGIN:VCALENDAR
VERSION:2.0
PRODID:-//mWEB//NONSGML mWEB//NB
URL:https://www.beroa.no/kalender/ics
X-WR-CALNAME:Berøa Langåker
REFRESH-INTERVAL;VALUE=DURATION:PT6H
X-PUBLISHED-TTL:PT6H    
CALSCALE:GREGORIAN
BEGIN:VEVENT
UID:beroa.no-3052
DTSTAMP:20260424T025553Z
DTSTART:20240903T160000Z
DTEND:20240903T173000Z
URL:https://www.beroa.no/kalender/2024/09/03/smak-og-se/3052/
CREATED:20240901T091445Z
LAST-MODIFIED:20240901T091446Z
SUMMARY:Smak og se
DESCRIPTION:\n\nhttps://www.beroa.no/kalender/2024/09/03/smak-og-se/3052/
END:VEVENT

END:VCALENDAR