BEGIN:VCALENDAR
VERSION:2.0
PRODID:-//mWEB//NONSGML mWEB//NB
URL:https://www.beroa.no/kalender/ics
X-WR-CALNAME:Berøa Langåker
REFRESH-INTERVAL;VALUE=DURATION:PT6H
X-PUBLISHED-TTL:PT6H    
CALSCALE:GREGORIAN
BEGIN:VEVENT
UID:beroa.no-2933
DTSTAMP:20260424T025754Z
DTSTART:20240906T173000Z
DTEND:20240906T190000Z
URL:https://www.beroa.no/kalender/2024/09/06/mote-med-familien-losneslokken/2933/
CREATED:20240224T094153Z
LAST-MODIFIED:20240826T153756Z
SUMMARY:Møte med Familien Løsnesløkken
DESCRIPTION:\n\nhttps://www.beroa.no/kalender/2024/09/06/mote-med-familien-losneslokken/2933/
END:VEVENT

END:VCALENDAR