BEGIN:VCALENDAR
VERSION:2.0
PRODID:-//mWEB//NONSGML mWEB//NB
URL:https://www.beroa.no/kalender/ics
X-WR-CALNAME:Berøa Langåker
REFRESH-INTERVAL;VALUE=DURATION:PT6H
X-PUBLISHED-TTL:PT6H    
CALSCALE:GREGORIAN
BEGIN:VEVENT
UID:beroa.no-2934
DTSTAMP:20260424T025732Z
DTSTART:20240907T160000Z
DTEND:20240907T173000Z
URL:https://www.beroa.no/kalender/2024/09/07/konsert-med-familien-losneslokken/2934/
CREATED:20240224T094214Z
LAST-MODIFIED:20240826T153817Z
SUMMARY:Konsert med Familien Løsnesløkken
DESCRIPTION:\n\nhttps://www.beroa.no/kalender/2024/09/07/konsert-med-familien-losneslokken/2934/
END:VEVENT

END:VCALENDAR