BEGIN:VCALENDAR
VERSION:2.0
PRODID:-//mWEB//NONSGML mWEB//NB
URL:https://www.beroa.no/kalender/ics
X-WR-CALNAME:Berøa Langåker
REFRESH-INTERVAL;VALUE=DURATION:PT6H
X-PUBLISHED-TTL:PT6H    
CALSCALE:GREGORIAN
BEGIN:VEVENT
UID:beroa.no-2958
DTSTAMP:20260424T025506Z
DTSTART:20240907T190000Z
DTEND:20240907T203000Z
URL:https://www.beroa.no/kalender/2024/09/07/ungdomsmote-beroa/2958/
CREATED:20240310T213331Z
LAST-MODIFIED:20240310T213331Z
SUMMARY:Ungdomsmøte Berøa
DESCRIPTION:\n\nhttps://www.beroa.no/kalender/2024/09/07/ungdomsmote-beroa/2958/
END:VEVENT

END:VCALENDAR