BEGIN:VCALENDAR
VERSION:2.0
PRODID:-//mWEB//NONSGML mWEB//NB
URL:https://www.beroa.no/kalender/ics
X-WR-CALNAME:Berøa Langåker
REFRESH-INTERVAL;VALUE=DURATION:PT6H
X-PUBLISHED-TTL:PT6H    
CALSCALE:GREGORIAN
BEGIN:VEVENT
UID:beroa.no-3004
DTSTAMP:20260424T025733Z
DTSTART:20240910T170000Z
DTEND:20240910T183000Z
URL:https://www.beroa.no/kalender/2024/09/10/bibeltimer-sandve-bedehus-taler-preben-solvang-emne-josvas-bok/3004/
CREATED:20240620T071046Z
LAST-MODIFIED:20240827T111917Z
SUMMARY:Bibeltimer Sandve bedehus. Taler: Preben Solvang - Emne: Josvas bok
DESCRIPTION:\n\nhttps://www.beroa.no/kalender/2024/09/10/bibeltimer-sandve-bedehus-taler-preben-solvang-emne-josvas-bok/3004/
END:VEVENT

END:VCALENDAR