BEGIN:VCALENDAR
VERSION:2.0
PRODID:-//mWEB//NONSGML mWEB//NB
URL:https://www.beroa.no/kalender/ics
X-WR-CALNAME:Berøa Langåker
REFRESH-INTERVAL;VALUE=DURATION:PT6H
X-PUBLISHED-TTL:PT6H    
CALSCALE:GREGORIAN
BEGIN:VEVENT
UID:beroa.no-3009
DTSTAMP:20260424T025419Z
DTSTART:20240913T160000Z
DTEND:20240913T173000Z
URL:https://www.beroa.no/kalender/2024/09/13/sammen-pa-vea/3009/
CREATED:20240702T161203Z
LAST-MODIFIED:20240821T191608Z
SUMMARY:"Sammen" på Vea
DESCRIPTION:\n\nhttps://www.beroa.no/kalender/2024/09/13/sammen-pa-vea/3009/
END:VEVENT

END:VCALENDAR