BEGIN:VCALENDAR
VERSION:2.0
PRODID:-//mWEB//NONSGML mWEB//NB
URL:https://www.beroa.no/kalender/ics
X-WR-CALNAME:Berøa Langåker
REFRESH-INTERVAL;VALUE=DURATION:PT6H
X-PUBLISHED-TTL:PT6H    
CALSCALE:GREGORIAN
BEGIN:VEVENT
UID:beroa.no-3022
DTSTAMP:20260424T025717Z
DTSTART:20240915T173000Z
DTEND:20240915T190000Z
URL:https://www.beroa.no/kalender/2024/09/15/mote-tale-og-sang-av-helge-tonnes-langaker/3022/
CREATED:20240724T162215Z
LAST-MODIFIED:20240909T114220Z
SUMMARY:Møte. Tale og sang av Helge Tønnes Langåker.
DESCRIPTION:\n\nhttps://www.beroa.no/kalender/2024/09/15/mote-tale-og-sang-av-helge-tonnes-langaker/3022/
END:VEVENT

END:VCALENDAR