BEGIN:VCALENDAR
VERSION:2.0
PRODID:-//mWEB//NONSGML mWEB//NB
URL:https://www.beroa.no/kalender/ics
X-WR-CALNAME:Berøa Langåker
REFRESH-INTERVAL;VALUE=DURATION:PT6H
X-PUBLISHED-TTL:PT6H    
CALSCALE:GREGORIAN
BEGIN:VEVENT
UID:beroa.no-3005
DTSTAMP:20260424T025754Z
DTSTART:20240917T170000Z
DTEND:20240917T183000Z
URL:https://www.beroa.no/kalender/2024/09/17/bibeltimer-beroa-taler-preben-solvang-emne-josvas-bok-felles-med-flere-bedehus-sor-karmoy/3005/
CREATED:20240620T071251Z
LAST-MODIFIED:20240827T112117Z
SUMMARY:Bibeltimer Berøa. Taler: Preben Solvang - Emne: Josvas Bok (Felles med flere bedehus Sør-Karmøy)
DESCRIPTION:Emne: Josvas Bok\n\nhttps://www.beroa.no/kalender/2024/09/17/bibeltimer-beroa-taler-preben-solvang-emne-josvas-bok-felles-med-flere-bedehus-sor-karmoy/3005/
END:VEVENT

END:VCALENDAR