BEGIN:VCALENDAR
VERSION:2.0
PRODID:-//mWEB//NONSGML mWEB//NB
URL:https://www.beroa.no/kalender/ics
X-WR-CALNAME:Berøa Langåker
REFRESH-INTERVAL;VALUE=DURATION:PT6H
X-PUBLISHED-TTL:PT6H    
CALSCALE:GREGORIAN
BEGIN:VEVENT
UID:beroa.no-3015
DTSTAMP:20260424T025419Z
DTSTART:20240919T173000Z
DTEND:20240919T190000Z
URL:https://www.beroa.no/kalender/2024/09/19/bibellesning/3015/
CREATED:20240702T161409Z
LAST-MODIFIED:20240702T161410Z
SUMMARY:Bibellesning
DESCRIPTION:\n\nhttps://www.beroa.no/kalender/2024/09/19/bibellesning/3015/
END:VEVENT

END:VCALENDAR