BEGIN:VCALENDAR
VERSION:2.0
PRODID:-//mWEB//NONSGML mWEB//NB
URL:https://www.beroa.no/kalender/ics
X-WR-CALNAME:Berøa Langåker
REFRESH-INTERVAL;VALUE=DURATION:PT6H
X-PUBLISHED-TTL:PT6H    
CALSCALE:GREGORIAN
BEGIN:VEVENT
UID:beroa.no-3024
DTSTAMP:20260424T025049Z
DTSTART:20240921T180000Z
DTEND:20240921T193000Z
URL:https://www.beroa.no/kalender/2024/09/21/zennep/3024/
CREATED:20240813T131926Z
LAST-MODIFIED:20240917T205923Z
SUMMARY:Zennep
DESCRIPTION:\n\n\nhttps://www.beroa.no/kalender/2024/09/21/zennep/3024/
END:VEVENT

END:VCALENDAR