BEGIN:VCALENDAR
VERSION:2.0
PRODID:-//mWEB//NONSGML mWEB//NB
URL:https://www.beroa.no/kalender/ics
X-WR-CALNAME:Berøa Langåker
REFRESH-INTERVAL;VALUE=DURATION:PT6H
X-PUBLISHED-TTL:PT6H    
CALSCALE:GREGORIAN
BEGIN:VEVENT
UID:beroa.no-3012
DTSTAMP:20260424T025147Z
DTSTART:20240922T173000Z
DTEND:20240922T190000Z
URL:https://www.beroa.no/kalender/2024/09/22/brodsbrytelse/3012/
CREATED:20240702T161258Z
LAST-MODIFIED:20240822T053021Z
SUMMARY:Brødsbrytelse
DESCRIPTION:\n\nhttps://www.beroa.no/kalender/2024/09/22/brodsbrytelse/3012/
END:VEVENT

END:VCALENDAR