BEGIN:VCALENDAR
VERSION:2.0
PRODID:-//mWEB//NONSGML mWEB//NB
URL:https://www.beroa.no/kalender/ics
X-WR-CALNAME:Berøa Langåker
REFRESH-INTERVAL;VALUE=DURATION:PT6H
X-PUBLISHED-TTL:PT6H    
CALSCALE:GREGORIAN
BEGIN:VEVENT
UID:beroa.no-3028
DTSTAMP:20260424T025342Z
DTSTART:20240922T090000Z
DTEND:20240922T103000Z
URL:https://www.beroa.no/kalender/2024/09/22/sondagsskule/3028/
CREATED:20240821T191103Z
LAST-MODIFIED:20240821T191105Z
SUMMARY:Søndagsskule
DESCRIPTION:\n\nhttps://www.beroa.no/kalender/2024/09/22/sondagsskule/3028/
END:VEVENT

END:VCALENDAR