BEGIN:VCALENDAR
VERSION:2.0
PRODID:-//mWEB//NONSGML mWEB//NB
URL:https://www.beroa.no/kalender/ics
X-WR-CALNAME:Berøa Langåker
REFRESH-INTERVAL;VALUE=DURATION:PT6H
X-PUBLISHED-TTL:PT6H    
CALSCALE:GREGORIAN
BEGIN:VEVENT
UID:beroa.no-3016
DTSTAMP:20260424T025553Z
DTSTART:20240926T173000Z
DTEND:20240926T190000Z
URL:https://www.beroa.no/kalender/2024/09/26/bibellesning/3016/
CREATED:20240702T161423Z
LAST-MODIFIED:20240702T161423Z
SUMMARY:Bibellesning
DESCRIPTION:\n\nhttps://www.beroa.no/kalender/2024/09/26/bibellesning/3016/
END:VEVENT

END:VCALENDAR