BEGIN:VCALENDAR
VERSION:2.0
PRODID:-//mWEB//NONSGML mWEB//NB
URL:https://www.beroa.no/kalender/ics
X-WR-CALNAME:Berøa Langåker
REFRESH-INTERVAL;VALUE=DURATION:PT6H
X-PUBLISHED-TTL:PT6H    
CALSCALE:GREGORIAN
BEGIN:VEVENT
UID:beroa.no-2823
DTSTAMP:20260424T025637Z
DTSTART:20240928T160000Z
DTEND:20240928T173000Z
URL:https://www.beroa.no/kalender/2024/09/28/sanghelg-med-rett-kurs/2823/
CREATED:20231005T155236Z
LAST-MODIFIED:20240830T162344Z
SUMMARY:Sanghelg med Rett kurs
DESCRIPTION:\n\nhttps://www.beroa.no/kalender/2024/09/28/sanghelg-med-rett-kurs/2823/
END:VEVENT

END:VCALENDAR