BEGIN:VCALENDAR
VERSION:2.0
PRODID:-//mWEB//NONSGML mWEB//NB
URL:https://www.beroa.no/kalender/ics
X-WR-CALNAME:Berøa Langåker
REFRESH-INTERVAL;VALUE=DURATION:PT6H
X-PUBLISHED-TTL:PT6H    
CALSCALE:GREGORIAN
BEGIN:VEVENT
UID:beroa.no-3046
DTSTAMP:20260424T013339Z
DTSTART:20241006T090000Z
DTEND:20241006T103000Z
URL:https://www.beroa.no/kalender/2024/10/06/mote-tale-av-linn-magritt-jansen-bru-lovsangsteamet-blir-med/3046/
CREATED:20240830T163017Z
LAST-MODIFIED:20240929T165324Z
SUMMARY:Møte. Tale av Linn Magritt Jansen Bru. Lovsangsteamet blir med.
DESCRIPTION:\n\nhttps://www.beroa.no/kalender/2024/10/06/mote-tale-av-linn-magritt-jansen-bru-lovsangsteamet-blir-med/3046/
END:VEVENT

END:VCALENDAR