BEGIN:VCALENDAR
VERSION:2.0
PRODID:-//mWEB//NONSGML mWEB//NB
URL:https://www.beroa.no/kalender/ics
X-WR-CALNAME:Berøa Langåker
REFRESH-INTERVAL;VALUE=DURATION:PT6H
X-PUBLISHED-TTL:PT6H    
CALSCALE:GREGORIAN
BEGIN:VEVENT
UID:beroa.no-3037
DTSTAMP:20260424T013037Z
DTSTART:20241008T173000Z
DTEND:20241008T190000Z
URL:https://www.beroa.no/kalender/2024/10/08/bonnesamling/3037/
CREATED:20240830T162622Z
LAST-MODIFIED:20240830T162624Z
SUMMARY:Bønnesamling
DESCRIPTION:\n\nhttps://www.beroa.no/kalender/2024/10/08/bonnesamling/3037/
END:VEVENT

END:VCALENDAR