BEGIN:VCALENDAR
VERSION:2.0
PRODID:-//mWEB//NONSGML mWEB//NB
URL:https://www.beroa.no/kalender/ics
X-WR-CALNAME:Berøa Langåker
REFRESH-INTERVAL;VALUE=DURATION:PT6H
X-PUBLISHED-TTL:PT6H    
CALSCALE:GREGORIAN
BEGIN:VEVENT
UID:beroa.no-3066
DTSTAMP:20260424T013206Z
DTSTART:20241012T190000Z
DTEND:20241012T203000Z
URL:https://www.beroa.no/kalender/2024/10/12/ungdomsmote-beroa/3066/
CREATED:20241010T153537Z
LAST-MODIFIED:20241010T153542Z
SUMMARY:Ungdomsmøte Berøa
DESCRIPTION:\n\nhttps://www.beroa.no/kalender/2024/10/12/ungdomsmote-beroa/3066/
END:VEVENT

END:VCALENDAR