BEGIN:VCALENDAR
VERSION:2.0
PRODID:-//mWEB//NONSGML mWEB//NB
URL:https://www.beroa.no/kalender/ics
X-WR-CALNAME:Berøa Langåker
REFRESH-INTERVAL;VALUE=DURATION:PT6H
X-PUBLISHED-TTL:PT6H    
CALSCALE:GREGORIAN
BEGIN:VEVENT
UID:beroa.no-3033
DTSTAMP:20260424T013048Z
DTSTART:20241016T170000Z
DTEND:20241016T183000Z
URL:https://www.beroa.no/kalender/2024/10/16/forsamlingsmote/3033/
CREATED:20240829T163126Z
LAST-MODIFIED:20240829T163127Z
SUMMARY:Forsamlingsmøte
DESCRIPTION:\n\nhttps://www.beroa.no/kalender/2024/10/16/forsamlingsmote/3033/
END:VEVENT

END:VCALENDAR