BEGIN:VCALENDAR
VERSION:2.0
PRODID:-//mWEB//NONSGML mWEB//NB
URL:https://www.beroa.no/kalender/ics
X-WR-CALNAME:Berøa Langåker
REFRESH-INTERVAL;VALUE=DURATION:PT6H
X-PUBLISHED-TTL:PT6H    
CALSCALE:GREGORIAN
BEGIN:VEVENT
UID:beroa.no-2931
DTSTAMP:20260424T013217Z
DTSTART:20241019T180000Z
DTEND:20241019T193000Z
URL:https://www.beroa.no/kalender/2024/10/19/ungdomsmote-betania/2931/
CREATED:20240222T142635Z
LAST-MODIFIED:20240222T142635Z
SUMMARY:Ungdomsmøte Betania
DESCRIPTION:\n\nhttps://www.beroa.no/kalender/2024/10/19/ungdomsmote-betania/2931/
END:VEVENT

END:VCALENDAR