BEGIN:VCALENDAR
VERSION:2.0
PRODID:-//mWEB//NONSGML mWEB//NB
URL:https://www.beroa.no/kalender/ics
X-WR-CALNAME:Berøa Langåker
REFRESH-INTERVAL;VALUE=DURATION:PT6H
X-PUBLISHED-TTL:PT6H    
CALSCALE:GREGORIAN
BEGIN:VEVENT
UID:beroa.no-3029
DTSTAMP:20260424T013037Z
DTSTART:20241020T090000Z
DTEND:20241020T103000Z
URL:https://www.beroa.no/kalender/2024/10/20/sondagsskule/3029/
CREATED:20240821T191123Z
LAST-MODIFIED:20240821T191124Z
SUMMARY:Søndagsskule
DESCRIPTION:\n\nhttps://www.beroa.no/kalender/2024/10/20/sondagsskule/3029/
END:VEVENT

END:VCALENDAR