BEGIN:VCALENDAR
VERSION:2.0
PRODID:-//mWEB//NONSGML mWEB//NB
URL:https://www.beroa.no/kalender/ics
X-WR-CALNAME:Berøa Langåker
REFRESH-INTERVAL;VALUE=DURATION:PT6H
X-PUBLISHED-TTL:PT6H    
CALSCALE:GREGORIAN
BEGIN:VEVENT
UID:beroa.no-2959
DTSTAMP:20260424T013216Z
DTSTART:20241026T190000Z
DTEND:20241026T203000Z
URL:https://www.beroa.no/kalender/2024/10/26/felles-ungdomstreff-ljosheim/2959/
CREATED:20240310T213359Z
LAST-MODIFIED:20240401T095444Z
SUMMARY:Felles ungdomstreff (Ljosheim)
DESCRIPTION:\n\nhttps://www.beroa.no/kalender/2024/10/26/felles-ungdomstreff-ljosheim/2959/
END:VEVENT

END:VCALENDAR