BEGIN:VCALENDAR
VERSION:2.0
PRODID:-//mWEB//NONSGML mWEB//NB
URL:https://www.beroa.no/kalender/ics
X-WR-CALNAME:Berøa Langåker
REFRESH-INTERVAL;VALUE=DURATION:PT6H
X-PUBLISHED-TTL:PT6H    
CALSCALE:GREGORIAN
BEGIN:VEVENT
UID:beroa.no-3040
DTSTAMP:20260424T013206Z
DTSTART:20241029T183000Z
DTEND:20241029T200000Z
URL:https://www.beroa.no/kalender/2024/10/29/bonnesamling-hos-henry-langaker/3040/
CREATED:20240830T162713Z
LAST-MODIFIED:20241027T145239Z
SUMMARY:Bønnesamling hos Henry Langåker
DESCRIPTION:\n\nhttps://www.beroa.no/kalender/2024/10/29/bonnesamling-hos-henry-langaker/3040/
END:VEVENT

END:VCALENDAR