BEGIN:VCALENDAR
VERSION:2.0
PRODID:-//mWEB//NONSGML mWEB//NB
URL:https://www.beroa.no/kalender/ics
X-WR-CALNAME:Berøa Langåker
REFRESH-INTERVAL;VALUE=DURATION:PT6H
X-PUBLISHED-TTL:PT6H    
CALSCALE:GREGORIAN
BEGIN:VEVENT
UID:beroa.no-3025
DTSTAMP:20260423T230352Z
DTSTART:20241102T190000Z
DTEND:20241102T203000Z
URL:https://www.beroa.no/kalender/2024/11/02/zennep/3025/
CREATED:20240813T131941Z
LAST-MODIFIED:20241028T213634Z
SUMMARY:Zennep
DESCRIPTION:\n\n\nhttps://www.beroa.no/kalender/2024/11/02/zennep/3025/
END:VEVENT

END:VCALENDAR