BEGIN:VCALENDAR
VERSION:2.0
PRODID:-//mWEB//NONSGML mWEB//NB
URL:https://www.beroa.no/kalender/ics
X-WR-CALNAME:Berøa Langåker
REFRESH-INTERVAL;VALUE=DURATION:PT6H
X-PUBLISHED-TTL:PT6H    
CALSCALE:GREGORIAN
BEGIN:VEVENT
UID:beroa.no-3050
DTSTAMP:20260423T233435Z
DTSTART:20241103T183000Z
DTEND:20241103T200000Z
URL:https://www.beroa.no/kalender/2024/11/03/sangkveld-med-sevlandsgutane/3050/
CREATED:20240830T163332Z
LAST-MODIFIED:20241028T204355Z
SUMMARY:Sangkveld med Sevlandsgutane.
DESCRIPTION:\n\nhttps://www.beroa.no/kalender/2024/11/03/sangkveld-med-sevlandsgutane/3050/
END:VEVENT

END:VCALENDAR