BEGIN:VCALENDAR
VERSION:2.0
PRODID:-//mWEB//NONSGML mWEB//NB
URL:https://www.beroa.no/kalender/ics
X-WR-CALNAME:Berøa Langåker
REFRESH-INTERVAL;VALUE=DURATION:PT6H
X-PUBLISHED-TTL:PT6H    
CALSCALE:GREGORIAN
BEGIN:VEVENT
UID:beroa.no-3030
DTSTAMP:20260423T231251Z
DTSTART:20241103T100000Z
DTEND:20241103T113000Z
URL:https://www.beroa.no/kalender/2024/11/03/sondagsskule/3030/
CREATED:20240821T191139Z
LAST-MODIFIED:20240821T191140Z
SUMMARY:Søndagsskule
DESCRIPTION:\n\nhttps://www.beroa.no/kalender/2024/11/03/sondagsskule/3030/
END:VEVENT

END:VCALENDAR