BEGIN:VCALENDAR
VERSION:2.0
PRODID:-//mWEB//NONSGML mWEB//NB
URL:https://www.beroa.no/kalender/ics
X-WR-CALNAME:Berøa Langåker
REFRESH-INTERVAL;VALUE=DURATION:PT6H
X-PUBLISHED-TTL:PT6H    
CALSCALE:GREGORIAN
BEGIN:VEVENT
UID:beroa.no-3084
DTSTAMP:20260423T233147Z
DTSTART:20241105T160000Z
DTEND:20241105T173000Z
URL:https://www.beroa.no/kalender/2024/11/05/smak-og-se-pa-beroa/3084/
CREATED:20241027T145524Z
LAST-MODIFIED:20241027T145525Z
SUMMARY:"Smak og Se" på Berøa
DESCRIPTION:\n\nhttps://www.beroa.no/kalender/2024/11/05/smak-og-se-pa-beroa/3084/
END:VEVENT

END:VCALENDAR