BEGIN:VCALENDAR
VERSION:2.0
PRODID:-//mWEB//NONSGML mWEB//NB
URL:https://www.beroa.no/kalender/ics
X-WR-CALNAME:Berøa Langåker
REFRESH-INTERVAL;VALUE=DURATION:PT6H
X-PUBLISHED-TTL:PT6H    
CALSCALE:GREGORIAN
BEGIN:VEVENT
UID:beroa.no-3062
DTSTAMP:20260423T231304Z
DTSTART:20241107T183000Z
DTEND:20241107T200000Z
URL:https://www.beroa.no/kalender/2024/11/07/bibellesning/3062/
CREATED:20241005T092430Z
LAST-MODIFIED:20241005T092431Z
SUMMARY:Bibellesning
DESCRIPTION:\n\nhttps://www.beroa.no/kalender/2024/11/07/bibellesning/3062/
END:VEVENT

END:VCALENDAR